BEGIN:VCALENDAR
VERSION:2.0
PRODID:-//WSV Diderna WIK - ECPv6.15.20//NONSGML v1.0//EN
CALSCALE:GREGORIAN
METHOD:PUBLISH
X-ORIGINAL-URL:https://diderna-wik.nl
X-WR-CALDESC:Evenementen voor WSV Diderna WIK
REFRESH-INTERVAL;VALUE=DURATION:PT1H
X-Robots-Tag:noindex
X-PUBLISHED-TTL:PT1H
BEGIN:VTIMEZONE
TZID:Europe/Paris
BEGIN:DAYLIGHT
TZOFFSETFROM:+0100
TZOFFSETTO:+0200
TZNAME:CEST
DTSTART:20240331T010000
END:DAYLIGHT
BEGIN:STANDARD
TZOFFSETFROM:+0200
TZOFFSETTO:+0100
TZNAME:CET
DTSTART:20241027T010000
END:STANDARD
BEGIN:DAYLIGHT
TZOFFSETFROM:+0100
TZOFFSETTO:+0200
TZNAME:CEST
DTSTART:20250330T010000
END:DAYLIGHT
BEGIN:STANDARD
TZOFFSETFROM:+0200
TZOFFSETTO:+0100
TZNAME:CET
DTSTART:20251026T010000
END:STANDARD
BEGIN:DAYLIGHT
TZOFFSETFROM:+0100
TZOFFSETTO:+0200
TZNAME:CEST
DTSTART:20260329T010000
END:DAYLIGHT
BEGIN:STANDARD
TZOFFSETFROM:+0200
TZOFFSETTO:+0100
TZNAME:CET
DTSTART:20261025T010000
END:STANDARD
END:VTIMEZONE
BEGIN:VEVENT
DTSTART;TZID=Europe/Paris:20251130T090000
DTEND;TZID=Europe/Paris:20251130T160000
DTSTAMP:20260421T121943
CREATED:20250120T201341Z
LAST-MODIFIED:20250120T201341Z
UID:297-1764493200-1764518400@diderna-wik.nl
SUMMARY:Herfsttocht Dieren Zondag
DESCRIPTION:Deze wandeltocht (voorheen Winterserie) wordt georganiseerd vanuit Dieren.\nDe route voert door de bossen en langs de heide van de Veluwezoom.\nAlleen onverharde wandelpaden met onderweg een rustmogelijkheid bij de Carolinahoeve. \nEr kan gewandeld worden op 7.5\, 12\, en 16 km. Bij de start\, finish en op meerdere plekken onderweg zijn er rustmogelijkheden. \nAlles is volledig uitgezet met pijlen\, een routebeschrijving is aanwezig.
URL:https://diderna-wik.nl/index.php/event/herfsttochtdieren-zondag/
LOCATION:KV Diderna-Visser sloopwerken\, Kolonieweg 2\, Dieren\, Gelderland\, 6952 GX\, Nederland
CATEGORIES:Recenties
ORGANIZER;CN="Wsv 'Diderna-W.I.K.'":MAILTO:info@diderna-wik.nl
END:VEVENT
BEGIN:VEVENT
DTSTART;TZID=Europe/Paris:20251129T090000
DTEND;TZID=Europe/Paris:20251129T160000
DTSTAMP:20260421T121943
CREATED:20250120T201230Z
LAST-MODIFIED:20250120T201230Z
UID:294-1764406800-1764432000@diderna-wik.nl
SUMMARY:Herfsttocht Dieren Zaterdag
DESCRIPTION:Deze wandeltocht (voorheen Winterserie) wordt georganiseerd vanuit Dieren.\nDe route voert door de bossen en langs de heide van de Veluwezoom.\nAlleen onverharde wandelpaden met onderweg een rustmogelijkheid bij de Carolinahoeve. \nEr kan gewandeld worden op 7.5\, 12\, en 16 km. Bij de start\, finish en op meerdere plekken onderweg zijn er rustmogelijkheden. \nAlles is volledig uitgezet met pijlen\, een routebeschrijving is aanwezig.
URL:https://diderna-wik.nl/index.php/event/herfsttochtdieren-zaterdag/
LOCATION:KV Diderna-Visser sloopwerken\, Kolonieweg 2\, Dieren\, Gelderland\, 6952 GX\, Nederland
CATEGORIES:Recenties
ORGANIZER;CN="Wsv 'Diderna-W.I.K.'":MAILTO:info@diderna-wik.nl
END:VEVENT
BEGIN:VEVENT
DTSTART;TZID=Europe/Paris:20250921T090000
DTEND;TZID=Europe/Paris:20250921T170000
DTSTAMP:20260421T121943
CREATED:20250120T200026Z
LAST-MODIFIED:20250120T200339Z
UID:291-1758445200-1758474000@diderna-wik.nl
SUMMARY:Bos en Heidetocht Dieren Zondag
DESCRIPTION:Op het vernieuwde parcours van de Bos en Heidetocht (voorheen Bostocht) kan er op zondag 21 september worden gewandeld. Deze wandeltocht gaat praktisch alleen over onverharde paden en over de nodige heuvels. Let op\, de 25 kilometer heeft 300 hoogtemeters. \nEr kan gewandeld worden op 5\, 10\, 15 en 25 km. Bij de start\, finish en op meerdere plekken onderweg zijn er rustmogelijkheden. \nAlles is volledig uitgezet met pijlen\, een routebeschrijving is aanwezig.
URL:https://diderna-wik.nl/index.php/event/bos-en-heidetocht-dieren-zondag/
LOCATION:KV Diderna-Visser sloopwerken\, Kolonieweg 2\, Dieren\, Gelderland\, 6952 GX\, Nederland
CATEGORIES:Recenties
ORGANIZER;CN="Wsv 'Diderna-W.I.K.'":MAILTO:info@diderna-wik.nl
END:VEVENT
BEGIN:VEVENT
DTSTART;TZID=Europe/Paris:20250920T090000
DTEND;TZID=Europe/Paris:20250920T170000
DTSTAMP:20260421T121943
CREATED:20250120T195630Z
LAST-MODIFIED:20250120T195903Z
UID:286-1758358800-1758387600@diderna-wik.nl
SUMMARY:Bos en Heidetocht Dieren Zaterdag
DESCRIPTION:Op het vernieuwde parcours van de Bos en Heidetocht (voorheen Bostocht) kan er op zaterdag 20 september worden gewandeld. Deze wandeltocht gaat praktisch alleen over onverharde paden en over de nodige heuvels. Let op\, de 25 kilometer heeft 300 hoogtemeters. \nEr kan gewandeld worden op 5\, 10\, 15 en 25 km. Bij de start\, finish en op meerdere plekken onderweg zijn er rustmogelijkheden. \nAlles is volledig uitgezet met pijlen\, een routebeschrijving is aanwezig.
URL:https://diderna-wik.nl/index.php/event/bos-en-heidetocht-dieren-zaterdag/
LOCATION:KV Diderna-Visser sloopwerken\, Kolonieweg 2\, Dieren\, Gelderland\, 6952 GX\, Nederland
CATEGORIES:Recenties
ORGANIZER;CN="Wsv 'Diderna-W.I.K.'":MAILTO:info@diderna-wik.nl
END:VEVENT
BEGIN:VEVENT
DTSTART;TZID=Europe/Paris:20250420T090000
DTEND;TZID=Europe/Paris:20250420T170000
DTSTAMP:20260421T121943
CREATED:20250120T195024Z
LAST-MODIFIED:20250417T084436Z
UID:284-1745139600-1745168400@diderna-wik.nl
SUMMARY:Zuid Veluwetocht Dieren Zondag
DESCRIPTION:De Zuid Veluwetocht voert u door de mooiste stukken natuur van de Veluwezoom.\nDe vernieuwde route gaat door de bossen en heide van Natuurmonumenten en Twickel.Kom nieuwe plekken ontdekken\, wordt verrast door de prachtige natuur en geniet van de mooie uitzichten. \nEr kan gewandeld worden op 5\, 10\, 15\, 20 en 25 km. Bij de start\, finish en op meerdere plekken onderweg zijn er rustmogelijkheden. \nAlles is volledig uitgezet met pijlen\, een routebeschrijving is aanwezig.
URL:https://diderna-wik.nl/index.php/event/zuid-veluwetocht-dieren-zondag/
LOCATION:KV Diderna-Visser sloopwerken\, Kolonieweg 2\, Dieren\, Gelderland\, 6952 GX\, Nederland
CATEGORIES:Recenties
ORGANIZER;CN="Wsv 'Diderna-W.I.K.'":MAILTO:info@diderna-wik.nl
END:VEVENT
BEGIN:VEVENT
DTSTART;TZID=Europe/Paris:20250419T090000
DTEND;TZID=Europe/Paris:20250419T170000
DTSTAMP:20260421T121943
CREATED:20250120T194828Z
LAST-MODIFIED:20250417T084423Z
UID:277-1745053200-1745082000@diderna-wik.nl
SUMMARY:Zuid Veluwetocht Dieren Zaterdag
DESCRIPTION:De Zuid Veluwetocht voert u door de mooiste stukken natuur van de Veluwezoom.\nDe vernieuwde route gaat door de bossen en heide van Natuurmonumenten en Twickel.Kom nieuwe plekken ontdekken\, wordt verrast door de prachtige natuur en geniet van de mooie uitzichten. \nEr kan gewandeld worden op 5\, 10\, 15\, 20 en 25 km. Bij de start\, finish en op meerdere plekken onderweg zijn er rustmogelijkheden. \nAlles is volledig uitgezet met pijlen\, een routebeschrijving is aanwezig.
URL:https://diderna-wik.nl/index.php/event/zuid-veluwetocht-dieren-zaterdag/
LOCATION:KV Diderna-Visser sloopwerken\, Kolonieweg 2\, Dieren\, Gelderland\, 6952 GX\, Nederland
CATEGORIES:Recenties
ORGANIZER;CN="Wsv 'Diderna-W.I.K.'":MAILTO:info@diderna-wik.nl
END:VEVENT
BEGIN:VEVENT
DTSTART;TZID=Europe/Paris:20250302T090000
DTEND;TZID=Europe/Paris:20250302T160000
DTSTAMP:20260421T121943
CREATED:20250120T191532Z
LAST-MODIFIED:20250120T194458Z
UID:274-1740906000-1740931200@diderna-wik.nl
SUMMARY:Wintertocht Dieren Zondag
DESCRIPTION:Op zondag 2 maart staat de Wintertocht op de wandelagenda. Deze weer vernieuwde wandeltocht voert door de mooiste gebieden van de Veluwezoom. De 16 km gaat ook een groot deel over de Posbank met zijn prachtige uitzichten. De wandeltocht is grotendeels onverhard en heuvelachtig. \nWandel mee door de bossen en heide van de Veluwezoom. Kom nieuwe plekken ontdekken\, wordt verrast door de prachtige natuur en geniet van de mooie uitzichten. \nEr kan gewandeld worden op 7\, 12 en 16 km. Bij start en finish en op meerdere plekken onderweg zijn er rustmogelijkheden.
URL:https://diderna-wik.nl/index.php/event/wintertoch-dieren-zondag/
LOCATION:KV Diderna-Visser sloopwerken\, Kolonieweg 2\, Dieren\, Gelderland\, 6952 GX\, Nederland
CATEGORIES:Recenties
ORGANIZER;CN="Wsv 'Diderna-W.I.K.'":MAILTO:info@diderna-wik.nl
END:VEVENT
BEGIN:VEVENT
DTSTART;TZID=Europe/Paris:20250301T090000
DTEND;TZID=Europe/Paris:20250301T160000
DTSTAMP:20260421T121943
CREATED:20250120T190535Z
LAST-MODIFIED:20250422T083358Z
UID:265-1740819600-1740844800@diderna-wik.nl
SUMMARY:Wintertocht Dieren Zaterdag
DESCRIPTION:Op zaterdag 1 staat de Wintertocht op de wandelagenda. Deze weer vernieuwde wandeltocht voert door de mooiste gebieden van de Veluwezoom. De 16 km gaat ook een groot deel over de Posbank met zijn prachtige uitzichten. De wandeltocht is grotendeels onverhard en heuvelachtig. \nWandel mee door de bossen en heide van de Veluwezoom. Kom nieuwe plekken ontdekken\, wordt verrast door de prachtige natuur en geniet van de mooie uitzichten. \nEr kan gewandeld worden op 7\, 12 en 16 km. Bij de start\, finish en op meerdere plekken onderweg zijn er rustmogelijkheden.
URL:https://diderna-wik.nl/index.php/event/wintertocht-dieren-zaterdag/
LOCATION:KV Diderna-Visser sloopwerken\, Kolonieweg 2\, Dieren\, Gelderland\, 6952 GX\, Nederland
CATEGORIES:Recenties
ORGANIZER;CN="Wsv 'Diderna-W.I.K.'":MAILTO:info@diderna-wik.nl
END:VEVENT
END:VCALENDAR