BEGIN:VCALENDAR
VERSION:2.0
PRODID:-//WSV Diderna WIK - ECPv6.15.20//NONSGML v1.0//EN
CALSCALE:GREGORIAN
METHOD:PUBLISH
X-ORIGINAL-URL:https://diderna-wik.nl
X-WR-CALDESC:Evenementen voor WSV Diderna WIK
REFRESH-INTERVAL;VALUE=DURATION:PT1H
X-Robots-Tag:noindex
X-PUBLISHED-TTL:PT1H
BEGIN:VTIMEZONE
TZID:Europe/Paris
BEGIN:DAYLIGHT
TZOFFSETFROM:+0100
TZOFFSETTO:+0200
TZNAME:CEST
DTSTART:20250330T010000
END:DAYLIGHT
BEGIN:STANDARD
TZOFFSETFROM:+0200
TZOFFSETTO:+0100
TZNAME:CET
DTSTART:20251026T010000
END:STANDARD
BEGIN:DAYLIGHT
TZOFFSETFROM:+0100
TZOFFSETTO:+0200
TZNAME:CEST
DTSTART:20260329T010000
END:DAYLIGHT
BEGIN:STANDARD
TZOFFSETFROM:+0200
TZOFFSETTO:+0100
TZNAME:CET
DTSTART:20261025T010000
END:STANDARD
BEGIN:DAYLIGHT
TZOFFSETFROM:+0100
TZOFFSETTO:+0200
TZNAME:CEST
DTSTART:20270328T010000
END:DAYLIGHT
BEGIN:STANDARD
TZOFFSETFROM:+0200
TZOFFSETTO:+0100
TZNAME:CET
DTSTART:20271031T010000
END:STANDARD
END:VTIMEZONE
BEGIN:VEVENT
DTSTART;TZID=Europe/Paris:20260214T090000
DTEND;TZID=Europe/Paris:20260214T160000
DTSTAMP:20260421T162938
CREATED:20260110T141347Z
LAST-MODIFIED:20260110T162726Z
UID:322-1771059600-1771084800@diderna-wik.nl
SUMMARY:Wintertocht Dieren Zaterdag
DESCRIPTION:Op zaterdag 14 en zondag 15 februari staat de Wintertocht op de wandelagenda. Deze weer vernieuwde wandeltocht voert door de mooiste gebieden van de Veluwezoom. De 17 km gaat ook een groot deel over de Posbank met zijn prachtige uitzichten. De wandeltocht is grotendeels onverhard en heuvelachtig. \nEr kan gewandeld worden op 7\,5\, 12 en 17km. Bij de start\, finish en onderweg zijn er rustmogelijkheden.\nAlles is volledig uitgezet met pijlen\, een routebeschrijving is aanwezig
URL:https://diderna-wik.nl/index.php/event/wintertocht-dieren-zaterdag-2/
LOCATION:KV Diderna-Visser sloopwerken\, Kolonieweg 2\, Dieren\, Gelderland\, 6952 GX\, Nederland
ORGANIZER;CN="Wsv 'Diderna-W.I.K.'":MAILTO:info@diderna-wik.nl
END:VEVENT
BEGIN:VEVENT
DTSTART;TZID=Europe/Paris:20260215T090000
DTEND;TZID=Europe/Paris:20260215T160000
DTSTAMP:20260421T162938
CREATED:20260110T142947Z
LAST-MODIFIED:20260110T162744Z
UID:324-1771146000-1771171200@diderna-wik.nl
SUMMARY:Wintertocht Dieren Zondag
DESCRIPTION:Op zaterdag 14 en zondag 15 februari staat de Wintertocht op de wandelagenda. Deze weer vernieuwde wandeltocht voert door de mooiste gebieden van de Veluwezoom. De 17 km gaat ook een groot deel over de Posbank met zijn prachtige uitzichten. De wandeltocht is grotendeels onverhard en heuvelachtig. \nEr kan gewandeld worden op 7\,5\, 12 en 17km. Bij de start\, finish en onderweg zijn er rustmogelijkheden.\nAlles is volledig uitgezet met pijlen\, een routebeschrijving is aanwezig
URL:https://diderna-wik.nl/index.php/event/wintertocht-dieren-zondag/
LOCATION:KV Diderna-Visser sloopwerken\, Kolonieweg 2\, Dieren\, Gelderland\, 6952 GX\, Nederland
ORGANIZER;CN="Wsv 'Diderna-W.I.K.'":MAILTO:info@diderna-wik.nl
END:VEVENT
END:VCALENDAR